BEGIN:VCALENDAR
VERSION:2.0
PRODID:-//Comité du Tarn de rugby - ECPv4.7.1//NONSGML v1.0//EN
CALSCALE:GREGORIAN
METHOD:PUBLISH
X-WR-CALNAME:Comité du Tarn de rugby
X-ORIGINAL-URL:http://www.rugbytarn.fr
X-WR-CALDESC:Évènements pour Comité du Tarn de rugby
BEGIN:VEVENT
DTSTART;VALUE=DATE:20241019
DTEND;VALUE=DATE:20241020
DTSTAMP:20260420T222437
CREATED:20241009T140558Z
LAST-MODIFIED:20241009T140558Z
UID:18674-1729296000-1729382399@www.rugbytarn.fr
SUMMARY:Élection FFR
DESCRIPTION:
URL:http://www.rugbytarn.fr/event/election-ffr/
END:VEVENT
END:VCALENDAR