BEGIN:VCALENDAR
VERSION:2.0
PRODID:-//Comité du Tarn de rugby - ECPv4.7.1//NONSGML v1.0//EN
CALSCALE:GREGORIAN
METHOD:PUBLISH
X-WR-CALNAME:Comité du Tarn de rugby
X-ORIGINAL-URL:http://www.rugbytarn.fr
X-WR-CALDESC:Évènements pour Comité du Tarn de rugby
BEGIN:VEVENT
DTSTART;TZID=UTC+1:20161203T170000
DTEND;TZID=UTC+1:20161203T190000
DTSTAMP:20260419T153527
CREATED:20161125T082119Z
LAST-MODIFIED:20161125T082119Z
UID:3988-1480784400-1480791600@www.rugbytarn.fr
SUMMARY:Remise labellisation EDR Labruguière
DESCRIPTION:
URL:http://www.rugbytarn.fr/event/remise-labellisation-edr-labruguiere/
LOCATION:Labruguiere
END:VEVENT
END:VCALENDAR