BEGIN:VCALENDAR
VERSION:2.0
PRODID:-//Comité du Tarn de rugby - ECPv4.7.1//NONSGML v1.0//EN
CALSCALE:GREGORIAN
METHOD:PUBLISH
X-WR-CALNAME:Comité du Tarn de rugby
X-ORIGINAL-URL:http://www.rugbytarn.fr
X-WR-CALDESC:Évènements pour Comité du Tarn de rugby
BEGIN:VEVENT
DTSTART;TZID=UTC+1:20180701T140000
DTEND;TZID=UTC+1:20180706T170000
DTSTAMP:20260424T001329
CREATED:20180222T095528Z
LAST-MODIFIED:20180222T095528Z
UID:6852-1530453600-1530896400@www.rugbytarn.fr
SUMMARY:Stages été M14/M15/M16
DESCRIPTION:
URL:http://www.rugbytarn.fr/event/stages-ete-m14m15m16/
LOCATION:Fonlabour
END:VEVENT
END:VCALENDAR