BEGIN:VCALENDAR
VERSION:2.0
PRODID:-//Comité du Tarn de rugby - ECPv4.7.1//NONSGML v1.0//EN
CALSCALE:GREGORIAN
METHOD:PUBLISH
X-WR-CALNAME:Comité du Tarn de rugby
X-ORIGINAL-URL:http://www.rugbytarn.fr
X-WR-CALDESC:Évènements pour Comité du Tarn de rugby
BEGIN:VEVENT
DTSTART;TZID=UTC+1:20180708T140000
DTEND;TZID=UTC+1:20180713T170000
DTSTAMP:20260423T115820
CREATED:20180222T095641Z
LAST-MODIFIED:20180222T095641Z
UID:6855-1531058400-1531501200@www.rugbytarn.fr
SUMMARY:Stages été M11/M12/M13
DESCRIPTION:
URL:http://www.rugbytarn.fr/event/stages-ete-m11m12m13/
LOCATION:Touscayrats
END:VEVENT
END:VCALENDAR